BEGIN:VCALENDAR
VERSION:2.0
PRODID:-//Prairiewoods - ECPv6.15.20//NONSGML v1.0//EN
CALSCALE:GREGORIAN
METHOD:PUBLISH
X-WR-CALNAME:Prairiewoods
X-ORIGINAL-URL:https://prairiewoods.org
X-WR-CALDESC:Events for Prairiewoods
REFRESH-INTERVAL;VALUE=DURATION:PT1H
X-Robots-Tag:noindex
X-PUBLISHED-TTL:PT1H
BEGIN:VTIMEZONE
TZID:America/Chicago
BEGIN:DAYLIGHT
TZOFFSETFROM:-0600
TZOFFSETTO:-0500
TZNAME:CDT
DTSTART:20250309T080000
END:DAYLIGHT
BEGIN:STANDARD
TZOFFSETFROM:-0500
TZOFFSETTO:-0600
TZNAME:CST
DTSTART:20251102T070000
END:STANDARD
BEGIN:DAYLIGHT
TZOFFSETFROM:-0600
TZOFFSETTO:-0500
TZNAME:CDT
DTSTART:20260308T080000
END:DAYLIGHT
BEGIN:STANDARD
TZOFFSETFROM:-0500
TZOFFSETTO:-0600
TZNAME:CST
DTSTART:20261101T070000
END:STANDARD
BEGIN:DAYLIGHT
TZOFFSETFROM:-0600
TZOFFSETTO:-0500
TZNAME:CDT
DTSTART:20270314T080000
END:DAYLIGHT
BEGIN:STANDARD
TZOFFSETFROM:-0500
TZOFFSETTO:-0600
TZNAME:CST
DTSTART:20271107T070000
END:STANDARD
END:VTIMEZONE
BEGIN:VEVENT
DTSTART;TZID=America/Chicago:20260423T160000
DTEND;TZID=America/Chicago:20260423T170000
DTSTAMP:20260423T214920
CREATED:20260421T223129Z
LAST-MODIFIED:20260421T223129Z
UID:10000956-1776960000-1776963600@prairiewoods.org
SUMMARY:Go Deeper Thursdays (Zoom)
DESCRIPTION:Connect at a deep level with an hour of online spiritual conversation \nThursdays\, 4–5 p.m. U.S. Central Time \nGo Deeper Thursdays is an ongoing personal exploration and deepening in community. This online group began during the pandemic as an opportunity to be in community while physically isolated. Over the years\, we have seen many faces and heard many voices—all of us willing to open ourselves in order to go deeper in our own consciousness and spirituality. Topics emerge from the conversations and maintain a general focus on our spiritual lives. Convener Ellen Bruckner guides these online conversations every Thursday. \nRegistration is required to get the Zoom link\, and a free-will offering will be gratefully accepted on the next screen. \nRegister Now: \nhttps://pw.retreatportal.com/calendar/event?programcode=26PWS33967
URL:https://prairiewoods.org/event/go-deeper-thursdays-zoom/
LOCATION:Prairiewoods (120 East Boyson Rd)
END:VEVENT
END:VCALENDAR