BEGIN:VCALENDAR
VERSION:2.0
PRODID:-//Prairiewoods - ECPv6.15.20//NONSGML v1.0//EN
CALSCALE:GREGORIAN
METHOD:PUBLISH
X-WR-CALNAME:Prairiewoods
X-ORIGINAL-URL:https://prairiewoods.org
X-WR-CALDESC:Events for Prairiewoods
REFRESH-INTERVAL;VALUE=DURATION:PT1H
X-Robots-Tag:noindex
X-PUBLISHED-TTL:PT1H
BEGIN:VTIMEZONE
TZID:America/Chicago
BEGIN:DAYLIGHT
TZOFFSETFROM:-0600
TZOFFSETTO:-0500
TZNAME:CDT
DTSTART:20250309T080000
END:DAYLIGHT
BEGIN:STANDARD
TZOFFSETFROM:-0500
TZOFFSETTO:-0600
TZNAME:CST
DTSTART:20251102T070000
END:STANDARD
BEGIN:DAYLIGHT
TZOFFSETFROM:-0600
TZOFFSETTO:-0500
TZNAME:CDT
DTSTART:20260308T080000
END:DAYLIGHT
BEGIN:STANDARD
TZOFFSETFROM:-0500
TZOFFSETTO:-0600
TZNAME:CST
DTSTART:20261101T070000
END:STANDARD
BEGIN:DAYLIGHT
TZOFFSETFROM:-0600
TZOFFSETTO:-0500
TZNAME:CDT
DTSTART:20270314T080000
END:DAYLIGHT
BEGIN:STANDARD
TZOFFSETFROM:-0500
TZOFFSETTO:-0600
TZNAME:CST
DTSTART:20271107T070000
END:STANDARD
END:VTIMEZONE
BEGIN:VEVENT
DTSTART;TZID=America/Chicago:20260505T103000
DTEND;TZID=America/Chicago:20260505T120000
DTSTAMP:20260422T125400
CREATED:20260421T223217Z
LAST-MODIFIED:20260421T223217Z
UID:10000981-1777977000-1777982400@prairiewoods.org
SUMMARY:Breathe Deep: Mindful Breathing for Health\, Spirit and Earth
DESCRIPTION:Mindfully breath during this four-week series at Prairiewoods \nWhat if the doorway to calm\, clarity\, and connection has been with you all along — flowing quietly in and out with every breath?Breath is the most constant rhythm of our lives. It shapes our blood pressure\, digestion\, stress levels\, anxiety\, and overall well-being. Yet most of us move through our days scarcely noticing this quiet miracle that sustains us moment by moment. \nThis May\, we invite you to pause. \nHeld within the beauty and healing presence of the land\, Breathe Deep: Mindful Breathing for Health\, Spirit\, and Earth offers a gentle\, grounding journey back to the sacred rhythm already living within you. Together we will rediscover the wisdom of breath — the steady rise and fall that nourishes body\, calms the nervous system\, and reconnects us to Earth’s living community.Across cultures and spiritual traditions\, breath has long been known as sacred medicine. Science now confirms what ancient wisdom has always taught: conscious breathing slows the heart\, quiets the mind\, reduces stress\, and awakens a deep sense of presence. \nIn this nurturing four-week series\, we will explore simple yet powerful breathing practices that help us return to balance and awareness. Surrounded by prairie\, trees\, and sky\, we will remember that our breath is not separate from Earth’s breath. With every inhale we receive life; with every exhale we return gratitude. \nHere\, breathing becomes prayer.Breathing becomes presence.Breathing becomes communion with the living Earth.Come breathe deeply.Come breathe wisely.Come breathe with Earth. \nYou may receive: \n\nSimple\, accessible mindful breathing practices you can use anytime\, anywhere\nA deeper sense of calm\, clarity\, and presence in daily life\nPractical ways to ease stress and invite balance into body\, mind\, and spirit\nAn understanding of how conscious breathing supports overall health and well-being\nRenewed connection to Earth’s rhythms through the shared breath of trees\, prairie\, and sky\nSpace to experience breath as both prayer and communion—linking self to community and human to Earth\n\nFor single-session registration at $20 per session please call (319) 395-6700 or email ecospirit@prairiewoods.org. \nRegister Now: \nhttps://pw.retreatportal.com/calendar/event?programcode=26PHD34500
URL:https://prairiewoods.org/event/breathe-deep-mindful-breathing-for-health-spirit-and-earth/
LOCATION:Prairiewoods
END:VEVENT
END:VCALENDAR